Workbook

Sheet Interconnection Request Form
C3: ITC | AP3: Tracking Information
AX4: Received by:
C5: Interconnection Request Form (IRF) | AX5: Date of receipt:
AX6: IRF Queue # :
AX7: IRF Rev # :
AX8: CNF Queue # :
AX9: CNF Rev # :
C11: INSTRUCTIONS:
C12: 1. Request must be completed in its entirety (except for optional or non-applicable fields)
C13: 2. Queue date will be assigned when the completed, signed request is received at ITC.
C14: 3. When submitting revised IRF's, include the original IRF Queue # as well as the new rev number in the grey box.
C15: The original document is rev 0 or no rev number, first revision is rev 1, etc. Changes should be in red text.
C16: 4. When submitting new or revised IRF's, include the Construction Notification Form (CNF) Queue # / Rev # in the grey box as applicable.
C17: 5. Complete Exhibit C if the distribution generator interconnection causes a 1 MW or greater increase in backflow onto the transmission | D17: Complete Exhibit C for Distribution Generator interconnections >1MW or if the DG interconnection causes a 1 MW or greater increase in backflow onto the transmission for normal light load conditions (If DG or increase in backflow is <1MW, IRF is not needed.)
C18: 6. Complete Exhibit C if the distribution generator interconnection causes a 1 MW or greater increase in backflow onto the transmission | D18: Complete Exhibit D for large loads where the aggregate expected peak load equals or exceeds 75 MW at a transmission level voltage at a site
C19: 7 | D19: Please email the completed form to the address below and copy all relevant recipients.
D20: Email to: | J20: customerinterconnections@itctransco.com
C23: APPLICANT INFORMATION
C24: Company Legal Name:
C25: Requester Name: | AY25: Submittal Date:
C26: Requester Title:
C27: Requester Telephone Number:
C28: E-mail Address (optional):
C29: Mailing Address:
M31: City: | AL31: State: | AW31: Zip Code:
C33: INTERCONNECTION REQUEST TYPE*
D34: Official Interconnection Request
D35: Feasibility Request (Applicable to ITCT and METC only)
G36: System Impact Study | R36: Facility Feasibility Study
D37: Anti-Islanding Request
C39: INTERCONNECTION LOCATION INFORMATION
C40: Transmission Planner: | O40: ITCGP | U40: ITCMW | AC40: ITCT | AI40: METC
C41: County:
C42: City/Township:
C43: Address:
C44: Specific Description (nearest cross streets, relationship to other identifiable facilities):
C48: Balancing Authority/Local Balancing Authority (where load will be located or pseudo tied):
C50: INTERCONNECTION INFORMATION
C51: Type of Request (check all that apply): | W51: Distribution Generator - Complete Exhibit C
E52: New Station | M52: New Load | S52: Add Transformer - # of xfrms | AL52: Replace Transformer | AY52: Retirement/Decommission
...

Sheet Load Change Form
B3: Load Addition/Change Form
B4: INSTRUCTIONS:
B5: 1. Complete Load/Addition Change Form for each substation load related to the project. MW load should be expressed in maximum amounts
B6: 2. Insert the Power Factor (PF) in cell "B19". If the PF is different for any specific load amount, override the cell formula by placing the expected MVAr load into the appropriate cell
B7: 3. Requestor may replace the year numbers with calendar years
B8: Substation Name:
B9: PSS/E Bus Number:
B10: PSS/E Bus Name:
B11: Check all that apply
C12: New Load
C13: Expanding Load
C14: Reducing Load
C15: Load Transfer
C16: Transmission Line Tap (i.e., Pole Top Switch)
B17: Projection of Real and Reactive Power Peak Requirements (MW and MVAR)
B18: Load PF (pu) | C18: Year 1 (In-Service Year) | E18: Year 2 | G18: Year 3 | I18: Year 4 | K18: Year 5 | M18: Year 6 | O18: Year 7 | Q18: Year 8 | S18: Year 9 | U18: Year 10
B19: Enter PF Here | C19: MW | D19: MVAr | E19: MW | F19: MVAr | G19: MW | H19: MVAr | I19: MW | J19: MVAr | K19: MW | L19: MVAr | M19: MW | N19: MVAr | O19: MW | P19: MVAr | Q19: MW | R19: MVAr | S19: MW | T19: MVAr | U19: MW | V19: MVAr
B20: January | D20: =SQRT((C20/$B$19)^2-C20^2) -> #VALUE! | F20: =SQRT((E20/$B$19)^2-E20^2) -> #VALUE! | H20: =SQRT((G20/$B$19)^2-G20^2) -> #VALUE! | J20: =SQRT((I20/$B$19)^2-I20^2) -> #VALUE! | L20: =SQRT((K20/$B$19)^2-K20^2) -> #VALUE! | N20: =SQRT((M20/$B$19)^2-M20^2) -> #VALUE! | P20: =SQRT((O20/$B$19)^2-O20^2) -> #VALUE! | R20: =SQRT((Q20/$B$19)^2-Q20^2) -> #VALUE! | T20: =SQRT((S20/$B$19)^2-S20^2) -> #VALUE! | V20: =SQRT((U20/$B$19)^2-U20^2) -> #VALUE!
B21: February | D21: =SQRT((C21/$B$19)^2-C21^2) -> #VALUE! | F21: =SQRT((E21/$B$19)^2-E21^2) -> #VALUE! | H21: =SQRT((G21/$B$19)^2-G21^2) -> #VALUE! | J21: =SQRT((I21/$B$19)^2-I21^2) -> #VALUE! | L21: =SQRT((K21/$B$19)^2-K21^2) -> #VALUE! | N21: =SQRT((M21/$B$19)^2-M21^2) -> #VALUE! | P21: =SQRT((O21/$B$19)^2-O21^2) -> #VALUE! | R21: =SQRT((Q21/$B$19)^2-Q21^2) -> #VALUE! | T21: =SQRT((S21/$B$19)^2-S21^2) -> #VALUE! | V21: =SQRT((U21/$B$19)^2-U21^2) -> #VALUE!
B22: March | D22: =SQRT((C22/$B$19)^2-C22^2) -> #VALUE! | F22: =SQRT((E22/$B$19)^2-E22^2) -> #VALUE! | H22: =SQRT((G22/$B$19)^2-G22^2) -> #VALUE! | J22: =SQRT((I22/$B$19)^2-I22^2) -> #VALUE! | L22: =SQRT((K22/$B$19)^2-K22^2) -> #VALUE! | N22: =SQRT((M22/$B$19)^2-M22^2) -> #VALUE! | P22: =SQRT((O22/$B$19)^2-O22^2) -> #VALUE! | R22: =SQRT((Q22/$B$19)^2-Q22^2) -> #VALUE! | T22: =SQRT((S22/$B$19)^2-S22^2) -> #VALUE! | V22: =SQRT((U22/$B$19)^2-U22^2) -> #VALUE!
B23: April | D23: =SQRT((C23/$B$19)^2-C23^2) -> #VALUE! | F23: =SQRT((E23/$B$19)^2-E23^2) -> #VALUE! | H23: =SQRT((G23/$B$19)^2-G23^2) -> #VALUE! | J23: =SQRT((I23/$B$19)^2-I23^2) -> #VALUE! | L23: =SQRT((K23/$B$19)^2-K23^2) -> #VALUE! | N23: =SQRT((M23/$B$19)^2-M23^2) -> #VALUE! | P23: =SQRT((O23/$B$19)^2-O23^2) -> #VALUE! | R23: =SQRT((Q23/$B$19)^2-Q23^2) -> #VALUE! | T23: =SQRT((S23/$B$19)^2-S23^2) -> #VALUE! | V23: =SQRT((U23/$B$19)^2-U23^2) -> #VALUE!
B24: May | D24: =SQRT((C24/$B$19)^2-C24^2) -> #VALUE! | F24: =SQRT((E24/$B$19)^2-E24^2) -> #VALUE! | H24: =SQRT((G24/$B$19)^2-G24^2) -> #VALUE! | J24: =SQRT((I24/$B$19)^2-I24^2) -> #VALUE! | L24: =SQRT((K24/$B$19)^2-K24^2) -> #VALUE! | N24: =SQRT((M24/$B$19)^2-M24^2) -> #VALUE! | P24: =SQRT((O24/$B$19)^2-O24^2) -> #VALUE! | R24: =SQRT((Q24/$B$19)^2-Q24^2) -> #VALUE! | T24: =SQRT((S24/$B$19)^2-S24^2) -> #VALUE! | V24: =SQRT((U24/$B$19)^2-U24^2) -> #VALUE!
B25: June | D25: =SQRT((C25/$B$19)^2-C25^2) -> #VALUE! | F25: =SQRT((E25/$B$19)^2-E25^2) -> #VALUE! | H25: =SQRT((G25/$B$19)^2-G25^2) -> #VALUE! | J25: =SQRT((I25/$B$19)^2-I25^2) -> #VALUE! | L25: =SQRT((K25/$B$19)^2-K25^2) -> #VALUE! | N25: =SQRT((M25/$B$19)^2-M25^2) -> #VALUE! | P25: =SQRT((O25/$B$19)^2-O25^2) -> #VALUE! | R25: =SQRT((Q25/$B$19)^2-Q25^2) -> #VALUE! | T25: =SQRT((S25/$B$19)^2-S25^2) -> #VALUE! | V25: =SQRT((U25/$B$19)^2-U25^2) -> #VALUE!
B26: July | D26: =SQRT((C26/$B$19)^2-C26^2) -> #VALUE! | F26: =SQRT((E26/$B$19)^2-E26^2) -> #VALUE! | H26: =SQRT((G26/$B$19)^2-G26^2) -> #VALUE! | J26: =SQRT((I26/$B$19)^2-I26^2) -> #VALUE! | L26: =SQRT((K26/$B$19)^2-K26^2) -> #VALUE! | N26: =SQRT((M26/$B$19)^2-M26^2) -> #VALUE! | P26: =SQRT((O26/$B$19)^2-O26^2) -> #VALUE! | R26: =SQRT((Q26/$B$19)^2-Q26^2) -> #VALUE! | T26: =SQRT((S26/$B$19)^2-S26^2) -> #VALUE! | V26: =SQRT((U26/$B$19)^2-U26^2) -> #VALUE!
B27: August | D27: =SQRT((C27/$B$19)^2-C27^2) -> #VALUE! | F27: =SQRT((E27/$B$19)^2-E27^2) -> #VALUE! | H27: =SQRT((G27/$B$19)^2-G27^2) -> #VALUE! | J27: =SQRT((I27/$B$19)^2-I27^2) -> #VALUE! | L27: =SQRT((K27/$B$19)^2-K27^2) -> #VALUE! | N27: =SQRT((M27/$B$19)^2-M27^2) -> #VALUE! | P27: =SQRT((O27/$B$19)^2-O27^2) -> #VALUE! | R27: =SQRT((Q27/$B$19)^2-Q27^2) -> #VALUE! | T27: =SQRT((S27/$B$19)^2-S27^2) -> #VALUE! | V27: =SQRT((U27/$B$19)^2-U27^2) -> #VALUE!
B28: September | D28: =SQRT((C28/$B$19)^2-C28^2) -> #VALUE! | F28: =SQRT((E28/$B$19)^2-E28^2) -> #VALUE! | H28: =SQRT((G28/$B$19)^2-G28^2) -> #VALUE! | J28: =SQRT((I28/$B$19)^2-I28^2) -> #VALUE! | L28: =SQRT((K28/$B$19)^2-K28^2) -> #VALUE! | N28: =SQRT((M28/$B$19)^2-M28^2) -> #VALUE! | P28: =SQRT((O28/$B$19)^2-O28^2) -> #VALUE! | R28: =SQRT((Q28/$B$19)^2-Q28^2) -> #VALUE! | T28: =SQRT((S28/$B$19)^2-S28^2) -> #VALUE! | V28: =SQRT((U28/$B$19)^2-U28^2) -> #VALUE!
B29: October | D29: =SQRT((C29/$B$19)^2-C29^2) -> #VALUE! | F29: =SQRT((E29/$B$19)^2-E29^2) -> #VALUE! | H29: =SQRT((G29/$B$19)^2-G29^2) -> #VALUE! | J29: =SQRT((I29/$B$19)^2-I29^2) -> #VALUE! | L29: =SQRT((K29/$B$19)^2-K29^2) -> #VALUE! | N29: =SQRT((M29/$B$19)^2-M29^2) -> #VALUE! | P29: =SQRT((O29/$B$19)^2-O29^2) -> #VALUE! | R29: =SQRT((Q29/$B$19)^2-Q29^2) -> #VALUE! | T29: =SQRT((S29/$B$19)^2-S29^2) -> #VALUE! | V29: =SQRT((U29/$B$19)^2-U29^2) -> #VALUE!
B30: November | D30: =SQRT((C30/$B$19)^2-C30^2) -> #VALUE! | F30: =SQRT((E30/$B$19)^2-E30^2) -> #VALUE! | H30: =SQRT((G30/$B$19)^2-G30^2) -> #VALUE! | J30: =SQRT((I30/$B$19)^2-I30^2) -> #VALUE! | L30: =SQRT((K30/$B$19)^2-K30^2) -> #VALUE! | N30: =SQRT((M30/$B$19)^2-M30^2) -> #VALUE! | P30: =SQRT((O30/$B$19)^2-O30^2) -> #VALUE! | R30: =SQRT((Q30/$B$19)^2-Q30^2) -> #VALUE! | T30: =SQRT((S30/$B$19)^2-S30^2) -> #VALUE! | V30: =SQRT((U30/$B$19)^2-U30^2) -> #VALUE!
B31: December | D31: =SQRT((C31/$B$19)^2-C31^2) -> #VALUE! | F31: =SQRT((E31/$B$19)^2-E31^2) -> #VALUE! | H31: =SQRT((G31/$B$19)^2-G31^2) -> #VALUE! | J31: =SQRT((I31/$B$19)^2-I31^2) -> #VALUE! | L31: =SQRT((K31/$B$19)^2-K31^2) -> #VALUE! | N31: =SQRT((M31/$B$19)^2-M31^2) -> #VALUE! | P31: =SQRT((O31/$B$19)^2-O31^2) -> #VALUE! | R31: =SQRT((Q31/$B$19)^2-Q31^2) -> #VALUE! | T31: =SQRT((S31/$B$19)^2-S31^2) -> #VALUE! | V31: =SQRT((U31/$B$19)^2-U31^2) -> #VALUE!
B32: Yearly Maximum | C32: =IF(MAX(C20:C31)=0," ",MAX(C20:C31)) | D32: =IF(MAX(D20:D31)=0," ",MAX(D20:D31)) -> #VALUE! | E32: =IF(MAX(E20:E31)=0,C32,MAX(E20:E31)) | F32: =IF(MAX(F20:F31)=0,D32,MAX(F20:F31)) -> #VALUE! | G32: =IF(MAX(G20:G31)=0,E32,MAX(G20:G31)) | H32: =IF(MAX(H20:H31)=0,F32,MAX(H20:H31)) -> #VALUE! | I32: =IF(MAX(I20:I31)=0,G32,MAX(I20:I31)) | J32: =IF(MAX(J20:J31)=0,H32,MAX(J20:J31)) -> #VALUE! | K32: =IF(MAX(K20:K31)=0,I32,MAX(K20:K31)) | L32: =IF(MAX(L20:L31)=0,J32,MAX(L20:L31)) -> #VALUE! | ... V32: =IF(MAX(V20:V31)=0,T32,MAX(V20:V31)) -> #VALUE!
B34: Load Transfer Data (from bus)
D35: Year 1 | F35: Year 2 | H35: Year 3 | J35: Year 4 | L35: Year 5 | N35: Year 6 | P35: Year 7 | R35: Year 8 | T35: Year 9 | V35: Year 10
B36: PSS/E Bus Name* | C36: PSS/E Bus # | D36: MW | E36: MVAr | F36: MW | G36: MVAr | H36: MW | I36: MVAr | J36: MW | K36: MVAr | L36: MW | M36: MVAr | N36: MW | O36: MVAr | P36: MW | Q36: MVAr | R36: MW | S36: MVAr | T36: MW | U36: MVAr | V36: MW | W36: MVAr
B43: *Note: Use full bus names (not PSSE abbreviated names)

Sheet Exhibit C
A1: EXHIBIT C
A2: REQUEST FOR ITC EVALUATION OF DG INTERCONNECTION
A3: IRF Number: | B3: =CONCATENATE('Interconnection Request Form'!AY6,'Interconnection Request Form'!AZ6," ") | D3: Revision: | E3: =CONCATENATE('Interconnection Request Form'!AY7,'Interconnection Request Form'!AZ7," ")
A4: Date Submitted: | B4: =IF('Interconnection Request Form'!BA25=G4," ",TEXT('Interconnection Request Form'!BA25,"m/dd/yyyy "))
A6: Requester Contact Info:
A7: Request Submitted by: | B7: =CONCATENATE('Interconnection Request Form'!K25,'Interconnection Request Form'!L25,'Interconnection Request Form'!M25,'Interconnection Request Form'!N25,'Interconnection Request Form'!O25,'Interconnection Request Form'!P25,'Interconnection Request Form'!Q25,'Interconnection Request Form'!R25,'Interconnection Request Form'!S25,'Interconnection Request Form'!T25,'Interconnection Request Form'!U25,'Interconnection Request Form'!V25,'Interconnection Request Form'!W25,'Interconnection Request Form'!X25,'Interconnection Request Form'!Y25,'Interconnection Request Form'!Z25,'Interconnection Request Form'!AA25,'Interconnection Request Form'!AB25,'Interconnection Request Form'!AC25,'Interconnection Request Form'!AD25,'Interconnection Request Form'!AE25,'Interconnection Request Form'!AF25," ")
A8: Submitter Phone #: | B8: =CONCATENATE('Interconnection Request Form'!Q27,'Interconnection Request Form'!R27,'Interconnection Request Form'!S27,'Interconnection Request Form'!T27,'Interconnection Request Form'!U27,'Interconnection Request Form'!V27,'Interconnection Request Form'!W27,'Interconnection Request Form'!X27,'Interconnection Request Form'!Y27,'Interconnection Request Form'!Z27," ")
A9: Requestor Email: | B9: =CONCATENATE('Interconnection Request Form'!O28,'Interconnection Request Form'!P28,'Interconnection Request Form'!Q28,'Interconnection Request Form'!R28,'Interconnection Request Form'!S28,'Interconnection Request Form'!T28,'Interconnection Request Form'!U28,'Interconnection Request Form'!V28,'Interconnection Request Form'!W28,'Interconnection Request Form'!X28,'Interconnection Request Form'!Y28,'Interconnection Request Form'!Z28," ")
A10: Company: | B10: =CONCATENATE('Interconnection Request Form'!N24,'Interconnection Request Form'!O24,'Interconnection Request Form'!P24,'Interconnection Request Form'!Q24,'Interconnection Request Form'!R24,'Interconnection Request Form'!S24,'Interconnection Request Form'!T24,'Interconnection Request Form'!U24,'Interconnection Request Form'!V24,'Interconnection Request Form'!W24,'Interconnection Request Form'!X24,'Interconnection Request Form'!Y24,'Interconnection Request Form'!Z24," ")
A12: Distribution Generation Interconnection Information:
A14: Substation Name (include one-line and map ): | D14: =CONCATENATE('Interconnection Request Form'!S54,'Interconnection Request Form'!T54,'Interconnection Request Form'!U54,'Interconnection Request Form'!V54,'Interconnection Request Form'!W54,'Interconnection Request Form'!X54,'Interconnection Request Form'!Y54,'Interconnection Request Form'!Z54,'Interconnection Request Form'!AA54,'Interconnection Request Form'!AB54,'Interconnection Request Form'!AC54,'Interconnection Request Form'!AD54,'Interconnection Request Form'!AE54,'Interconnection Request Form'!AF54,'Interconnection Request Form'!AG54,'Interconnection Request Form'!AH54," ")
A15: Total Generation Proposed:
A16: Substation Light Load (MW/MVAR):
A17: Transformer (to which DG is connected) Light Load:
A18: Backflow under light load (DG nameplate minus total sub load):
A19: Fuel type of Resource:
A20: MW Capacity of generation:
A21: MVAR Capacity of generation:
A22: Number and capacities of reactive equipment (Cap Banks, Reactors, SVC, etc):
A25: Requested In Service Date: | B25: =IFERROR('Exhibit C'!P45:AV45," ")
A26: Generator Step-Up or Substation Transformer Data:
A27: MVA rating:
A28: Voltage Rating:
A29: % Impedance:
A30: Fault Contribution (synchronous, transient, subtransient reactance, as applicable):
A33: If Distribution substation has 1MW or greater aggregate DG connected to the substation prior to the DG interconnection request, please provide:
A35: Aggregate MW Nameplate, by fuel type, at each distribution transformer:
A36: Wind:
A37: Solar:
A38: Other
A39: Other
A41: Will a portable substation be required for the DG interconnection?
... A46: Response Date:
A47: LIF Submittal Date: | B47: =B4
A48: Response Submitted By:
A49: IRF # | B49: =B3 | D49: Rev: | E49: =E3
A50: ITC Study Required? | B50: Yes | E50: No
A51: Estimated Study Cost:
A52: Estimated Study Duration :
A53: Scope of Study Work:

Sheet Exhibit D1
A1: EXHIBIT D1
A2: REQUEST FOR ADDITIONAL LARGE LOAD MODELING INFORMATION | B2: Question | C2: Response
A3: No. | B3: Question | C3: Response
A4: 0 | B4: Please provide the dynamic model or complete Exhibit D2. Dynamic models may be submitted in PSSE or TSAT format and should accurately represent fault ride-through performance, including all relevant control and protection functions. Exhibit D2 may be used to develop dynamic models; however, all dynamic models must be verified and validated by the interconnection customer. | C4: Please enter file name here, if applicable.
A5: 1 | B5: What is your data center’s total rated MW demand—including IT equipment, power distribution, and cooling? Please specify the current requested rated power and any planned increases over the next 10 years.
A6: 2 | B6: What percentage of total MW consumption in the data center is due to computing/server, lighting, power distribution losses, and cooling?
A7: 3 | B7: Identify the power factors associated with both the computing/server load and the cooling load, specifying whether each is leading or lagging.
A8: 3a | B8: State whether the power factor remains constant or varies over time.
A9: 3b | B9: Identify and describe any power factor correction devices, such as cap banks, and STATCOMS, such that they can be sufficiently modeled.
A10: 4 | B10: How are the motor components of the cooling system driven? [Single-speed AC connected, VFD/inverter, other]
A11: 5 | B11: Voltage sag levels where the load is disconnected from the utility and transferred to UPS or Backup Generation.
A12: 5a | B12: What is the voltage sag level (% of nominal) and duration (seconds) at which server/digital load disconnects?
A13: 5b | B13: What is the voltage sag level (% of nominal) and duration (seconds) at which cooling load disconnects?
A14: 6 | B14: Voltage swell levels where the load is disconnected from the utility and transferred to UPS or backup generation.
A15: 6a | B15: What is the voltage swell level (% of nominal) and duration (seconds) at which server/digital load disconnects?
A16: 6b | B16: What is the voltage swell level (% of nominal) and duration (seconds) at which cooling load disconnects?
A17: 7 | B17: Any frequency protection above/below which may disconnect? If so, please identify the protection settings.
A18: 8 | B18: When the loads disconnect, and temporarily transfer to UPS, how are the loads reconnected to the utility grid? Please specify reconnection voltages, ramps and time delays.
A19: 8a | B19: What is the delay in reconnecting once the voltage and frequency recovers to certain levels. Please specify the voltage and frequency levels and delays.
A20: 8b | B20: If reconnection is performed as a stagger or ramp, please provide detailed information describing the timing and magnitude.
A21: 9 | B21: Is the load expected to cycle up and down based on the anticipated application or machine learning computational process? If so, please specify load block cycling magnitude and frequency.
A22: 9a | B22: If so, please describe the frequency (in Hz or period of cycle in seconds)(A&B&D in Figure 9) and magnitude (in MW or percentage of peak demand or X&Y % load) of expected variations.
A23: 9b | B23: If possible, provide a .csv load profile showing variations in power during the training phase. | C23: Please enter file name here, if applicable.
A24: 9c | B24: Please provide information regarding the expected upward and downward load profile behavior (in MW/min) as seen in Figure 9 below (C1&C2).
B26: Figure for 9:

Sheet Exhibit D2
B2: Dynamic Load Model Form
B3: INSTRUCTIONS:
B4: 1. Complete Dynamic Load Model Form if a dynamic model file will not be provided at the time of request (numbers represented below are examples. Please provide planned site specific parameters).
B5: 2. Fields with clauclated values will have a note specifying so. There should not be a need to overwrite these values manually.
B6: 3. The Cooling Load, Static Load, and Non‑IT Load CMLD sections may include notes that provide example representative load types. If further comments are needed, please include feedback notes.
B8: Load Info
B9: Load Name | C9: Load MW | D9: Load MVAR
B10: Insert Name | C10: 100 | D10: 100
B12: Load Composition | D12: Load Compositon (calculated values)
B13: IT Loads (%) | D13: IT Loads MW | E13: =C10*C13 -> 0
B14: Cooling Loads (%) | D14: IT Loads MVAR | E14: =E13*SQRT(1/C16^2-1) -> #DIV/0!
B15: Static (%) | D15: Non-IT Loads MW | E15: =(C14+C15)*C10 -> 0
B16: IT Loads PF | D16: Non-IT Loads MVAR | E16: =E15*SQRT(1/C17^2-1) -> #DIV/0!
B17: Non-IT Loads PF
B20: IT Load Info
B21: Load MW | C21: Load MVAR
B22: =E13 -> 0 | C22: =E14 -> #DIV/0!
B24: Voltage Protection Settings
B25: LVRT | D25: HVRT
B26: Low Voltage Set Point (pu) | C26: Time Delay (s) | D26: High Voltage Set Point (pu) | E26: Time Delay (s)
B27: 0.9 | C27: 2 | D27: 1.1 | E27: 0.5
B28: 0.8 | C28: 0.5 | D28: 1.2 | E28: 0
B29: 0.5 | C29: 0.15 | D29: 1.2 | E29: 0
B30: 0.5 | C30: 0.15 | D30: 1.2 | E30: 0
B32: Voltage Reconnection
B33: Low Voltage Reconnection | D33: High Voltage Reconnection
B34: Voltage (pu) | C34: 0.85 | D34: Voltage (pu) | E34: 1.1
B35: Time Delay (s) | C35: 1 | D35: Time Delay (s) | E35: 1
B36: Ramp Rate (s) | C36: 5 | D36: Ramp Rate (s) | E36: 5
B38: Frequency Protection Settings
B39: Low Frequency | D39: High Frequency
B40: Frequency (Hz) | C40: 58 | D40: Frequency (Hz) | E40: 62
B41: Time Delay (s) | C41: 0.1 | D41: Time Delay (s) | E41: 0.1
B43: Frequency Reconnection
B44: Low Frequency Reconnection | D44: High Frequency Reconnection
B45: Frequency (Hz) | C45: 58.5 | D45: Frequency (Hz) | E45: 61.5
B46: Time Delay (s) | C46: 0.2 | D46: Time Delay (s) | E46: 0.2
B47: Ramp Rate (s) | C47: 2 | D47: Ramp Rate (s) | E47: 2
B50: Non IT Load Info (calculated values)
B51: Total Load MW | C51: =E15 -> 0
...

Sheet Revision History
A1: Revision History
A2: Date | B2: Revision | C2: Description
A3: 46038 | B3: 0 | C3: Initial Creation
A4: 46112 | B4: 1 | C4: Added Exhibit D1 & D2, Renamed sheet to Interconnection Request Form and added instruction #6.
A5: 46163 | B5: 2 | C5: Modified the Load Change Form and provided additional clarity in the instructions to populate maximum load amounts

Sheet ESRI_MAPINFO_SHEET
